BEGIN:VCALENDAR
VERSION:2.0
PRODID:-//Society of Women Engineers - ECPv5.9.2//NONSGML v1.0//EN
CALSCALE:GREGORIAN
METHOD:PUBLISH
X-WR-CALNAME:Society of Women Engineers
X-ORIGINAL-URL:https://swe.utahclubs.org
X-WR-CALDESC:Events for Society of Women Engineers
BEGIN:VTIMEZONE
TZID:America/Denver
BEGIN:DAYLIGHT
TZOFFSETFROM:-0700
TZOFFSETTO:-0600
TZNAME:MDT
DTSTART:20180311T090000
END:DAYLIGHT
BEGIN:STANDARD
TZOFFSETFROM:-0600
TZOFFSETTO:-0700
TZNAME:MST
DTSTART:20181104T080000
END:STANDARD
END:VTIMEZONE
BEGIN:VEVENT
DTSTART;TZID=America/Denver:20180924T180000
DTEND;TZID=America/Denver:20180924T210000
DTSTAMP:20260424T212814
CREATED:20180827T030343Z
LAST-MODIFIED:20180911T202819Z
UID:897-1537812000-1537822800@swe.utahclubs.org
SUMMARY:Evening with Industry (EWI)
DESCRIPTION:The Society of Women Engineers is proud to host its 8th annual Evening With Industry this Fall 2018 semester.\nPlease join us for an evening of dinner and networking with engineering recruiters. You will have the opportunity to sit by recruiters from the companies of your choice at this event and present your background\, skill-set\, and educational background to them. \n– Find internship opportunities \n– Network with engineering recruiters \n– Meet other fellow engineering students \n\nCompanies in attendance include:\n\n\n– BioFire\n\n\n– L3\n\n\n– Sandia National \n\n\n– Northrop Grumman\n\n\n– Williams\n\n\n– WSP\n\n\n– BD Medical\n\n\n– Varex Imaging\n\n\n– and more\n\nSpace is limited.\nSWE members pay $5 to register and non-members pay $10. Please purchase tickets below in advance to secure your seating next to your preferred companies. \nSurvey and Purchase Tickets Here: http://bit.ly/ewi18 \nPlease send questions to uofuswepdc@gmail.com.\nThanks to our Diamond Sponsors: L3 Technologies and BioFire!
URL:https://swe.utahclubs.org/event/evening-with-industry-ewi/
LOCATION:Bill and Pat Child Community Hall (7th Floor)\, Spencer Fox Eccles Business Building (SFEBB)\, 1655 Campus Center Dr\, Salt Lake City\, UT\, 84112\, United States
ATTACH;FMTTYPE=image/png:https://swe.utahclubs.org/wp-content/uploads/sites/30/2018/08/event-cover.png
ORGANIZER;CN="SWE%20Professional%20Development%20Committee":MAILTO:uofuswepdc@gmail.com
END:VEVENT
END:VCALENDAR