BEGIN:VCALENDAR
VERSION:2.0
PRODID:-//Society of Women Engineers - ECPv5.9.2//NONSGML v1.0//EN
CALSCALE:GREGORIAN
METHOD:PUBLISH
X-WR-CALNAME:Society of Women Engineers
X-ORIGINAL-URL:https://swe.utahclubs.org
X-WR-CALDESC:Events for Society of Women Engineers
BEGIN:VTIMEZONE
TZID:America/Denver
BEGIN:DAYLIGHT
TZOFFSETFROM:-0700
TZOFFSETTO:-0600
TZNAME:MDT
DTSTART:20190310T090000
END:DAYLIGHT
BEGIN:STANDARD
TZOFFSETFROM:-0600
TZOFFSETTO:-0700
TZNAME:MST
DTSTART:20191103T080000
END:STANDARD
END:VTIMEZONE
BEGIN:VEVENT
DTSTART;TZID=America/Denver:20190215T090000
DTEND;TZID=America/Denver:20190215T150000
DTSTAMP:20260423T120852
CREATED:20190210T070027Z
LAST-MODIFIED:20190210T070258Z
UID:3080-1550221200-1550242800@swe.utahclubs.org
SUMMARY:Utah Power and Energy Expo
DESCRIPTION:Students should RSVP at: https://goo.gl/toze4K
URL:https://swe.utahclubs.org/event/utah-power-and-energy-expo/
ATTACH;FMTTYPE=image/png:https://swe.utahclubs.org/wp-content/uploads/sites/30/2019/02/header.png
END:VEVENT
END:VCALENDAR