BEGIN:VCALENDAR
VERSION:2.0
PRODID:-//Society of Women Engineers - ECPv5.9.2//NONSGML v1.0//EN
CALSCALE:GREGORIAN
METHOD:PUBLISH
X-WR-CALNAME:Society of Women Engineers
X-ORIGINAL-URL:https://swe.utahclubs.org
X-WR-CALDESC:Events for Society of Women Engineers
BEGIN:VTIMEZONE
TZID:America/Denver
BEGIN:DAYLIGHT
TZOFFSETFROM:-0700
TZOFFSETTO:-0600
TZNAME:MDT
DTSTART:20190310T090000
END:DAYLIGHT
BEGIN:STANDARD
TZOFFSETFROM:-0600
TZOFFSETTO:-0700
TZNAME:MST
DTSTART:20191103T080000
END:STANDARD
END:VTIMEZONE
BEGIN:VEVENT
DTSTART;TZID=America/Denver:20191105T173000
DTEND;TZID=America/Denver:20191105T190000
DTSTAMP:20260422T181001
CREATED:20191025T134421Z
LAST-MODIFIED:20191101T005249Z
UID:5234-1572975000-1572980400@swe.utahclubs.org
SUMMARY:SWE Resume Review with BioFire Diagnostics
DESCRIPTION:Join Society of Women Engineers for a night to workshop and review your resumes with professionals from BioFire Diagnostics!
URL:https://swe.utahclubs.org/event/swe-resume-review-with-biofire-diagnostics/
LOCATION:WEB 1230\, 72 Central Campus Dr\, Salt Lake City\, 84112\, United States
ATTACH;FMTTYPE=image/jpeg:https://swe.utahclubs.org/wp-content/uploads/sites/30/2019/10/Resume-Review-Flier.jpg
ORGANIZER;CN="SWE%20Professional%20Development%20Committee":MAILTO:uofuswepdc@gmail.com
END:VEVENT
END:VCALENDAR