BEGIN:VCALENDAR
VERSION:2.0
PRODID:-//Society of Women Engineers - ECPv5.9.2//NONSGML v1.0//EN
CALSCALE:GREGORIAN
METHOD:PUBLISH
X-WR-CALNAME:Society of Women Engineers
X-ORIGINAL-URL:https://swe.utahclubs.org
X-WR-CALDESC:Events for Society of Women Engineers
BEGIN:VTIMEZONE
TZID:America/Denver
BEGIN:DAYLIGHT
TZOFFSETFROM:-0700
TZOFFSETTO:-0600
TZNAME:MDT
DTSTART:20180311T090000
END:DAYLIGHT
BEGIN:STANDARD
TZOFFSETFROM:-0600
TZOFFSETTO:-0700
TZNAME:MST
DTSTART:20181104T080000
END:STANDARD
END:VTIMEZONE
BEGIN:VEVENT
DTSTART;TZID=America/Denver:20180914T090000
DTEND;TZID=America/Denver:20180914T130000
DTSTAMP:20260421T025908
CREATED:20180828T003520Z
LAST-MODIFIED:20180828T004100Z
UID:983-1536915600-1536930000@swe.utahclubs.org
SUMMARY:Pipeline Career Expo - Utah Technology Council
DESCRIPTION:Looking for an internship or job in computing?\nThen come to the second annual Computing Career Expo in the Union on 9/14 (9AM to 1PM) and speak with some of the region’s top employers\, including: \n\nNational Security Agency (NSA)\nGoldman Sachs\nL3\nInstructure\nProofpoint\nSandia National Labs\nDepartment of Technology Service\, State of Utah\nBioFire\nHill AFB\n\nNeed help preparing for the Expo?  Be sure to attend our Prep Workshop on Monday\, 9/10\, at 4:30PM in 3147 MEB to get tips on your resume and presenting yourself to employers.\n\nRegister today at:\nhttp://bit.ly/socexpo18
URL:https://swe.utahclubs.org/event/pipeline-career-expo-utah-technology-council/
LOCATION:Union Ballroom\, 295 S Campus Dr\, Salt Lake City\, UT\, 84112
END:VEVENT
END:VCALENDAR