BEGIN:VCALENDAR
VERSION:2.0
PRODID:-//Society of Women Engineers - ECPv5.9.2//NONSGML v1.0//EN
CALSCALE:GREGORIAN
METHOD:PUBLISH
X-WR-CALNAME:Society of Women Engineers
X-ORIGINAL-URL:https://swe.utahclubs.org
X-WR-CALDESC:Events for Society of Women Engineers
BEGIN:VTIMEZONE
TZID:America/Denver
BEGIN:DAYLIGHT
TZOFFSETFROM:-0700
TZOFFSETTO:-0600
TZNAME:MDT
DTSTART:20190310T090000
END:DAYLIGHT
BEGIN:STANDARD
TZOFFSETFROM:-0600
TZOFFSETTO:-0700
TZNAME:MST
DTSTART:20191103T080000
END:STANDARD
END:VTIMEZONE
BEGIN:VEVENT
DTSTART;TZID=America/Denver:20190211T180000
DTEND;TZID=America/Denver:20190211T200000
DTSTAMP:20260423T165730
CREATED:20190107T002402Z
LAST-MODIFIED:20190210T030150Z
UID:1153-1549908000-1549915200@swe.utahclubs.org
SUMMARY:RESCHEDULED - Mock Interviews
DESCRIPTION:Due to university closures caused by snow\, this event has been rescheduled. \nOriginal date: Wednesday\, February 6th\, 2019 \nNew date: Monday\, February 11th\, 2019 \nNervous for your next job interview? Want tips and pointers on how to be the best candidate for the job you’re applying to? Register for our Mock Interviews event to learn how you can become an expert at presenting yourself to interviewers. Actual company representatives and recruiters will pose as your “interviewers” that evening\, so you’ll be learning from people who make hiring decisions in real life! Tip: dress to impress and make sure to study the company’s values and expectations before the event.
URL:https://swe.utahclubs.org/event/mock-interviews-2/
LOCATION:Student Services Bulding Room 350\, 201 S 1460 E\, Salt Lake City\, UT\, 84112\, United States
ATTACH;FMTTYPE=image/png:https://swe.utahclubs.org/wp-content/uploads/sites/30/2019/01/mockint_19_flyer_thumbnail.png
ORGANIZER;CN="SWE%20Professional%20Development%20Committee":MAILTO:uofuswepdc@gmail.com
END:VEVENT
END:VCALENDAR