BEGIN:VCALENDAR
VERSION:2.0
PRODID:-//Society of Women Engineers - ECPv5.9.2//NONSGML v1.0//EN
CALSCALE:GREGORIAN
METHOD:PUBLISH
X-WR-CALNAME:Society of Women Engineers
X-ORIGINAL-URL:https://swe.utahclubs.org
X-WR-CALDESC:Events for Society of Women Engineers
BEGIN:VTIMEZONE
TZID:America/Denver
BEGIN:DAYLIGHT
TZOFFSETFROM:-0700
TZOFFSETTO:-0600
TZNAME:MDT
DTSTART:20180311T090000
END:DAYLIGHT
BEGIN:STANDARD
TZOFFSETFROM:-0600
TZOFFSETTO:-0700
TZNAME:MST
DTSTART:20181104T080000
END:STANDARD
END:VTIMEZONE
BEGIN:VEVENT
DTSTART;TZID=America/Denver:20181205T163000
DTEND;TZID=America/Denver:20181205T173000
DTSTAMP:20260423T212521
CREATED:20181019T183042Z
LAST-MODIFIED:20181108T025612Z
UID:1115-1544027400-1544031000@swe.utahclubs.org
SUMMARY:Leadership Meeting
DESCRIPTION:
URL:https://swe.utahclubs.org/event/leadership-meeting-4/
LOCATION:WEB L120\, Warnock Engineering Building\, Salt Lake City\, UT\, 84112
ATTACH;FMTTYPE=image/png:https://swe.utahclubs.org/wp-content/uploads/sites/30/2016/07/swe-logo-u.png
END:VEVENT
END:VCALENDAR