BEGIN:VCALENDAR
VERSION:2.0
PRODID:-//Society of Women Engineers - ECPv5.9.2//NONSGML v1.0//EN
CALSCALE:GREGORIAN
METHOD:PUBLISH
X-WR-CALNAME:Society of Women Engineers
X-ORIGINAL-URL:https://swe.utahclubs.org
X-WR-CALDESC:Events for Society of Women Engineers
BEGIN:VTIMEZONE
TZID:America/Denver
BEGIN:DAYLIGHT
TZOFFSETFROM:-0700
TZOFFSETTO:-0600
TZNAME:MDT
DTSTART:20210314T090000
END:DAYLIGHT
BEGIN:STANDARD
TZOFFSETFROM:-0600
TZOFFSETTO:-0700
TZNAME:MST
DTSTART:20211107T080000
END:STANDARD
END:VTIMEZONE
BEGIN:VEVENT
DTSTART;TZID=America/Denver:20211101T173000
DTEND;TZID=America/Denver:20211101T183000
DTSTAMP:20260422T042757
CREATED:20211029T181500Z
LAST-MODIFIED:20211029T181500Z
UID:5497-1635787800-1635791400@swe.utahclubs.org
SUMMARY:L3Harris Women in Engineering Panel
DESCRIPTION:Join the Society of Women Engineers and L3Harris Technologies on Monday\, November 1st from 5:30-7:00 PM for an exciting panel about being a woman in engineering! The event will be held on Zoom and can be joined from the link above. \nUpload your resume to L3Harris Technologies at the link below: \nhttps://tinyurl.com/yhbsqv4l \nEmail Stephanie Smith at uofuswepdc@gmail.com with any questions about this event!
URL:https://swe.utahclubs.org/event/l3harris-women-in-engineering-panel/
LOCATION:Online
END:VEVENT
END:VCALENDAR