BEGIN:VCALENDAR
VERSION:2.0
PRODID:-//Society of Women Engineers - ECPv5.9.2//NONSGML v1.0//EN
CALSCALE:GREGORIAN
METHOD:PUBLISH
X-WR-CALNAME:Society of Women Engineers
X-ORIGINAL-URL:https://swe.utahclubs.org
X-WR-CALDESC:Events for Society of Women Engineers
BEGIN:VTIMEZONE
TZID:America/Denver
BEGIN:DAYLIGHT
TZOFFSETFROM:-0700
TZOFFSETTO:-0600
TZNAME:MDT
DTSTART:20200308T090000
END:DAYLIGHT
BEGIN:STANDARD
TZOFFSETFROM:-0600
TZOFFSETTO:-0700
TZNAME:MST
DTSTART:20201101T080000
END:STANDARD
END:VTIMEZONE
BEGIN:VEVENT
DTSTART;TZID=America/Denver:20200129T173000
DTEND;TZID=America/Denver:20200129T190000
DTSTAMP:20260422T061814
CREATED:20200113T225913Z
LAST-MODIFIED:20200113T225913Z
UID:5323-1580319000-1580324400@swe.utahclubs.org
SUMMARY:L3Harris Resume Review
DESCRIPTION:
URL:https://swe.utahclubs.org/event/l3harris-resume-review/
LOCATION:WEB 2250\, 72 Central Campus Dr\, Salt Lake City\, 84112\, United States
END:VEVENT
END:VCALENDAR