BEGIN:VCALENDAR
VERSION:2.0
PRODID:-//Society of Women Engineers - ECPv5.9.2//NONSGML v1.0//EN
CALSCALE:GREGORIAN
METHOD:PUBLISH
X-WR-CALNAME:Society of Women Engineers
X-ORIGINAL-URL:https://swe.utahclubs.org
X-WR-CALDESC:Events for Society of Women Engineers
BEGIN:VTIMEZONE
TZID:America/Denver
BEGIN:DAYLIGHT
TZOFFSETFROM:-0700
TZOFFSETTO:-0600
TZNAME:MDT
DTSTART:20190310T090000
END:DAYLIGHT
BEGIN:STANDARD
TZOFFSETFROM:-0600
TZOFFSETTO:-0700
TZNAME:MST
DTSTART:20191103T080000
END:STANDARD
END:VTIMEZONE
BEGIN:VEVENT
DTSTART;TZID=America/Denver:20191119T173000
DTEND;TZID=America/Denver:20191119T190000
DTSTAMP:20260422T144940
CREATED:20191115T005509Z
LAST-MODIFIED:20191115T005532Z
UID:5263-1574184600-1574190000@swe.utahclubs.org
SUMMARY:Internship Panel
DESCRIPTION:The Society of Women Engineers is hosting an internship panel in WEB 1230 and food will be provided. Come join us to learn about internships with NASA\, Lockheed Martin\, and many more!
URL:https://swe.utahclubs.org/event/internship-panel-2/
LOCATION:WEB 1230
END:VEVENT
END:VCALENDAR