BEGIN:VCALENDAR
VERSION:2.0
PRODID:-//Society of Women Engineers - ECPv5.9.2//NONSGML v1.0//EN
CALSCALE:GREGORIAN
METHOD:PUBLISH
X-WR-CALNAME:Society of Women Engineers
X-ORIGINAL-URL:https://swe.utahclubs.org
X-WR-CALDESC:Events for Society of Women Engineers
BEGIN:VTIMEZONE
TZID:America/Denver
BEGIN:DAYLIGHT
TZOFFSETFROM:-0700
TZOFFSETTO:-0600
TZNAME:MDT
DTSTART:20190310T090000
END:DAYLIGHT
BEGIN:STANDARD
TZOFFSETFROM:-0600
TZOFFSETTO:-0700
TZNAME:MST
DTSTART:20191103T080000
END:STANDARD
END:VTIMEZONE
BEGIN:VEVENT
DTSTART;TZID=America/Denver:20191030T180000
DTEND;TZID=America/Denver:20191030T190000
DTSTAMP:20260422T195435
CREATED:20191025T135141Z
LAST-MODIFIED:20191025T140504Z
UID:5225-1572458400-1572462000@swe.utahclubs.org
SUMMARY:Goldman Sachs Panel
DESCRIPTION:Come meet a panel of female Goldman Sachs engineers who will discuss what it’s like to work in the financial services. Food will be provided! Link to RSVP down below.
URL:https://swe.utahclubs.org/event/goldman-sachs-panel/
LOCATION:WEB 1230
CATEGORIES:Prof Dev Events
END:VEVENT
END:VCALENDAR