BEGIN:VCALENDAR
VERSION:2.0
PRODID:-//Society of Women Engineers - ECPv5.9.2//NONSGML v1.0//EN
CALSCALE:GREGORIAN
METHOD:PUBLISH
X-WR-CALNAME:Society of Women Engineers
X-ORIGINAL-URL:https://swe.utahclubs.org
X-WR-CALDESC:Events for Society of Women Engineers
BEGIN:VTIMEZONE
TZID:America/Denver
BEGIN:DAYLIGHT
TZOFFSETFROM:-0700
TZOFFSETTO:-0600
TZNAME:MDT
DTSTART:20220313T090000
END:DAYLIGHT
BEGIN:STANDARD
TZOFFSETFROM:-0600
TZOFFSETTO:-0700
TZNAME:MST
DTSTART:20221106T080000
END:STANDARD
END:VTIMEZONE
BEGIN:VEVENT
DTSTART;TZID=America/Denver:20220408T170000
DTEND;TZID=America/Denver:20220408T200000
DTSTAMP:20260422T005900
CREATED:20220321T224805Z
LAST-MODIFIED:20220321T230150Z
UID:5546-1649437200-1649448000@swe.utahclubs.org
SUMMARY:Girl Scout Night
DESCRIPTION:Come share your passion for engineering with the Girl Scouts! Volunteer at our bi-annual Girl Scout Night where local youth learn about engineering through hands-on activities.
URL:https://swe.utahclubs.org/event/girl-scout-night-3/
END:VEVENT
END:VCALENDAR