BEGIN:VCALENDAR
VERSION:2.0
PRODID:-//Society of Women Engineers - ECPv5.9.2//NONSGML v1.0//EN
CALSCALE:GREGORIAN
METHOD:PUBLISH
X-WR-CALNAME:Society of Women Engineers
X-ORIGINAL-URL:https://swe.utahclubs.org
X-WR-CALDESC:Events for Society of Women Engineers
BEGIN:VTIMEZONE
TZID:America/Denver
BEGIN:DAYLIGHT
TZOFFSETFROM:-0700
TZOFFSETTO:-0600
TZNAME:MDT
DTSTART:20190310T090000
END:DAYLIGHT
BEGIN:STANDARD
TZOFFSETFROM:-0600
TZOFFSETTO:-0700
TZNAME:MST
DTSTART:20191103T080000
END:STANDARD
END:VTIMEZONE
BEGIN:VEVENT
DTSTART;TZID=America/Denver:20191025T164500
DTEND;TZID=America/Denver:20191025T180000
DTSTAMP:20260422T234005
CREATED:20190917T001451Z
LAST-MODIFIED:20190917T001451Z
UID:5206-1572021900-1572026400@swe.utahclubs.org
SUMMARY:Girl Scout Night
DESCRIPTION:Sign up to volunteer at our annual Girl Scout Night\, as we engage the next generation in STEM! \nWe’ll explore scary chemical reactions\, search for code ghosts\, and dive into ancient civilizations. Come enjoy a spooky night! \nSign up to volunteer by visiting the following link: https://docs.google.com/forms/d/e/1FAIpQLSch8YP3c3IlnL5bmG6jQDJjbm54kq4il5ncxS7UMOXyqnLxnA/viewform?usp=sf_link
URL:https://swe.utahclubs.org/event/girl-scout-night-2/
LOCATION:Warnock Engineering Building\, 72 Central Campus Drive\, Salt Lake City\, UT\, 84112\, United States
END:VEVENT
END:VCALENDAR