BEGIN:VCALENDAR
VERSION:2.0
PRODID:-//Society of Women Engineers - ECPv5.9.2//NONSGML v1.0//EN
CALSCALE:GREGORIAN
METHOD:PUBLISH
X-WR-CALNAME:Society of Women Engineers
X-ORIGINAL-URL:https://swe.utahclubs.org
X-WR-CALDESC:Events for Society of Women Engineers
BEGIN:VTIMEZONE
TZID:America/Denver
BEGIN:DAYLIGHT
TZOFFSETFROM:-0700
TZOFFSETTO:-0600
TZNAME:MDT
DTSTART:20190310T090000
END:DAYLIGHT
BEGIN:STANDARD
TZOFFSETFROM:-0600
TZOFFSETTO:-0700
TZNAME:MST
DTSTART:20191103T080000
END:STANDARD
END:VTIMEZONE
BEGIN:VEVENT
DTSTART;TZID=America/Denver:20190923T133000
DTEND;TZID=America/Denver:20190923T152000
DTSTAMP:20260423T025545
CREATED:20190917T001826Z
LAST-MODIFIED:20190917T001826Z
UID:5208-1569245400-1569252000@swe.utahclubs.org
SUMMARY:ExxonMobil Info Session
DESCRIPTION:ExxonMobil is the largest oil & gas company worldwide that focuses in upstream\, downstream\, and alternative energy. Job opportunities at ExxonMobil are competitive and have among the best compensation for their employees and interns. This info session is the first time in years that ExxonMobil has come to the University of Utah campus to recruit engineers\, so if you are interested\, be sure to stop by!
URL:https://swe.utahclubs.org/event/exxonmobil-info-session/
LOCATION:WEB L120\, Warnock Engineering Building\, Salt Lake City\, UT\, 84112
END:VEVENT
END:VCALENDAR