BEGIN:VCALENDAR
VERSION:2.0
PRODID:-//Society of Women Engineers - ECPv5.9.2//NONSGML v1.0//EN
CALSCALE:GREGORIAN
METHOD:PUBLISH
X-WR-CALNAME:Society of Women Engineers
X-ORIGINAL-URL:https://swe.utahclubs.org
X-WR-CALDESC:Events for Society of Women Engineers
BEGIN:VTIMEZONE
TZID:America/Denver
BEGIN:DAYLIGHT
TZOFFSETFROM:-0700
TZOFFSETTO:-0600
TZNAME:MDT
DTSTART:20190310T090000
END:DAYLIGHT
BEGIN:STANDARD
TZOFFSETFROM:-0600
TZOFFSETTO:-0700
TZNAME:MST
DTSTART:20191103T080000
END:STANDARD
END:VTIMEZONE
BEGIN:VEVENT
DTSTART;TZID=America/Denver:20190923T180000
DTEND;TZID=America/Denver:20190923T210000
DTSTAMP:20260423T012025
CREATED:20190911T211811Z
LAST-MODIFIED:20190915T042540Z
UID:5137-1569261600-1569272400@swe.utahclubs.org
SUMMARY:Evening With Industry (EWI)
DESCRIPTION:Please go to the following links for information:\n\nGeneral Information and Registration\nCompanies Attending\n\n 
URL:https://swe.utahclubs.org/event/evening-with-industry-ewi-2/
LOCATION:Bill and Pat Child Community Hall (7th Floor)\, Spencer Fox Eccles Business Building (SFEBB)\, 1655 Campus Center Dr\, Salt Lake City\, UT\, 84112\, United States
ATTACH;FMTTYPE=image/png:https://swe.utahclubs.org/wp-content/uploads/sites/30/2019/09/swe-sun.png
END:VEVENT
END:VCALENDAR