BEGIN:VCALENDAR
VERSION:2.0
PRODID:-//Society of Women Engineers - ECPv5.9.2//NONSGML v1.0//EN
CALSCALE:GREGORIAN
METHOD:PUBLISH
X-WR-CALNAME:Society of Women Engineers
X-ORIGINAL-URL:https://swe.utahclubs.org
X-WR-CALDESC:Events for Society of Women Engineers
BEGIN:VTIMEZONE
TZID:America/Denver
BEGIN:DAYLIGHT
TZOFFSETFROM:-0700
TZOFFSETTO:-0600
TZNAME:MDT
DTSTART:20190310T090000
END:DAYLIGHT
BEGIN:STANDARD
TZOFFSETFROM:-0600
TZOFFSETTO:-0700
TZNAME:MST
DTSTART:20191103T080000
END:STANDARD
END:VTIMEZONE
BEGIN:VEVENT
DTSTART;TZID=America/Denver:20190223T080000
DTEND;TZID=America/Denver:20190223T130000
DTSTAMP:20260423T090922
CREATED:20190222T055741Z
LAST-MODIFIED:20190222T055741Z
UID:4117-1550908800-1550926800@swe.utahclubs.org
SUMMARY:Day in the Life: K-12 Engineering Event
DESCRIPTION:
URL:https://swe.utahclubs.org/event/day-in-the-life-k-12-engineering-event/
LOCATION:Warnock Engineering Building\, 72 Central Campus Drive\, Salt Lake City\, UT\, 84112\, United States
END:VEVENT
END:VCALENDAR